BEGIN:VCALENDAR
VERSION:2.0
PRODID:-//Sarré Musikprojekte - ECPv6.15.15//NONSGML v1.0//EN
CALSCALE:GREGORIAN
METHOD:PUBLISH
X-ORIGINAL-URL:https://www.sarre-musikprojekte.de
X-WR-CALDESC:Veranstaltungen für Sarré Musikprojekte
REFRESH-INTERVAL;VALUE=DURATION:PT1H
X-Robots-Tag:noindex
X-PUBLISHED-TTL:PT1H
BEGIN:VTIMEZONE
TZID:Europe/Berlin
BEGIN:DAYLIGHT
TZOFFSETFROM:+0100
TZOFFSETTO:+0200
TZNAME:CEST
DTSTART:20240331T010000
END:DAYLIGHT
BEGIN:STANDARD
TZOFFSETFROM:+0200
TZOFFSETTO:+0100
TZNAME:CET
DTSTART:20241027T010000
END:STANDARD
BEGIN:DAYLIGHT
TZOFFSETFROM:+0100
TZOFFSETTO:+0200
TZNAME:CEST
DTSTART:20250330T010000
END:DAYLIGHT
BEGIN:STANDARD
TZOFFSETFROM:+0200
TZOFFSETTO:+0100
TZNAME:CET
DTSTART:20251026T010000
END:STANDARD
BEGIN:DAYLIGHT
TZOFFSETFROM:+0100
TZOFFSETTO:+0200
TZNAME:CEST
DTSTART:20260329T010000
END:DAYLIGHT
BEGIN:STANDARD
TZOFFSETFROM:+0200
TZOFFSETTO:+0100
TZNAME:CET
DTSTART:20261025T010000
END:STANDARD
END:VTIMEZONE
BEGIN:VEVENT
DTSTART;VALUE=DATE:20250110
DTEND;VALUE=DATE:20250113
DTSTAMP:20260424T142324
CREATED:20240514T074658Z
LAST-MODIFIED:20240514T074701Z
UID:3690-1736467200-1736726399@www.sarre-musikprojekte.de
SUMMARY:Die Zauberflöte für Familien
DESCRIPTION:TERMINE \n			\n				\n				\n				\n				\n				10. – 12.01.2020: Die Zauberflöte\n– Die Familienoper von W. A. Mozart in der Alten Kongresshalle \n			\n			\n				\n				\n				\n				\n				\n			\n				\n				\n				\n				\n			\n				\n				\n			\n				\n				\n				\n				\n				\n				\n				\n				\n				\n				\n				\n				\n				\n				zurück zur Übersicht\n			\n				Mehr Infos & Tickets\n			\n				\n				\n				\n				\n				\n					\n					\n						\n						Die Sarré Musikprojekte gGmbH präsentiert ihre Erfolgsproduktion neu inszeniert in der Alten Kongresshalle München: \nDie Zauberflöte für Familien\nOper von W.A. Mozart für Familien mit Kindern ab 4 JahrenSpieldauer ca. 2 Std. 15 Min. inkl. Pause \n					\n				\n			\n				Mehr Informationen!\n			\n				\n				\n				\n				\n				Ort der Veranstaltung:Alte KongresshalleAm Bavariapark 1480339 München \n \n			\n				Mehr Infos & Tickets\n			\n				zurück zur Übersicht\n			\n			\n				\n				\n				\n				\n			\n				\n				\n			\n				\n				\n				\n				\n				\n				\n				\n				\n				\n				\n				\n				\n				\n				\n				\n				\n				\n				\n					\n					\n						Musikprojekte für die ganze Familie: Sing\, Play & Dance!\n						\n					\n				\n			\n				\n				\n				\n				\n				Sarré- Musikprojekte sprechen Kinder\, Jugendliche und Erwachsene an. \n			\n			\n				\n				\n				\n				\n			\n				\n				\n				\n				\n				\n				\n				\n				\n				\n				\n				\n			\n				\n				\n				\n				\n				PETER PANDas Familienmusical nach dem Schauspiel von J.M. Barrie\, Musik von George Stiles \n			\n				mehr Infos\n			\n			\n				\n				\n				\n				\n				\n				\n				\n				\n				\n				\n			\n				\n				\n				\n				\n				Die ZauberflöteDie Oper für Familien von W.A. Mozart in einer zauberhaften Inszenierung \n			\n				mehr Infos\n			\n			\n				\n				\n				\n				\n				\n				\n				\n				\n				\n				\n			\n				\n				\n				\n				\n				BEST OF MUSICALS!Konzertreihe „Best of Musicals“ der Sarré Musikprojekte \n			\n				mehr Infos
URL:https://www.sarre-musikprojekte.de/termin/die-zauberfloete-fuer-familien/
LOCATION:Alte Kongresshalle\, Am Bavariapark 14\, München\, 80339
END:VEVENT
END:VCALENDAR