BEGIN:VCALENDAR
VERSION:2.0
PRODID:-//Sarré Musikprojekte - ECPv6.15.15//NONSGML v1.0//EN
CALSCALE:GREGORIAN
METHOD:PUBLISH
X-WR-CALNAME:Sarré Musikprojekte
X-ORIGINAL-URL:https://www.sarre-musikprojekte.de
X-WR-CALDESC:Veranstaltungen für Sarré Musikprojekte
REFRESH-INTERVAL;VALUE=DURATION:PT1H
X-Robots-Tag:noindex
X-PUBLISHED-TTL:PT1H
BEGIN:VTIMEZONE
TZID:Europe/Berlin
BEGIN:DAYLIGHT
TZOFFSETFROM:+0100
TZOFFSETTO:+0200
TZNAME:CEST
DTSTART:20250330T010000
END:DAYLIGHT
BEGIN:STANDARD
TZOFFSETFROM:+0200
TZOFFSETTO:+0100
TZNAME:CET
DTSTART:20251026T010000
END:STANDARD
BEGIN:DAYLIGHT
TZOFFSETFROM:+0100
TZOFFSETTO:+0200
TZNAME:CEST
DTSTART:20260329T010000
END:DAYLIGHT
BEGIN:STANDARD
TZOFFSETFROM:+0200
TZOFFSETTO:+0100
TZNAME:CET
DTSTART:20261025T010000
END:STANDARD
BEGIN:DAYLIGHT
TZOFFSETFROM:+0100
TZOFFSETTO:+0200
TZNAME:CEST
DTSTART:20270328T010000
END:DAYLIGHT
BEGIN:STANDARD
TZOFFSETFROM:+0200
TZOFFSETTO:+0100
TZNAME:CET
DTSTART:20271031T010000
END:STANDARD
END:VTIMEZONE
BEGIN:VEVENT
DTSTART;TZID=Europe/Berlin:20260803T080000
DTEND;TZID=Europe/Berlin:20260807T170000
DTSTAMP:20260423T134659
CREATED:20251124T141952Z
LAST-MODIFIED:20251124T143946Z
UID:4520-1785744000-1786122000@www.sarre-musikprojekte.de
SUMMARY:03-07.08.2026 Sommerferien Musicalworkshop "Tanz der Vampire"
DESCRIPTION:TERMINE \n			\n				\n				\n				\n				\n				Neues aus der Sarre Musik-projekte GmbH \n			\n			\n				\n				\n				\n				\n				\n			\n				\n				\n				\n				\n			\n				\n				\n			\n				\n				\n				\n				\n				\n				\n				\n				\n				\n				\n				\n				\n				\n				zurück zur Übersicht\n			\n				\n				\n				\n				\n				\n					\n					\n						\n						03-07.08.2026: Sommerferien Musicalworkshop „Tanz der Vampire“\nAlter: ab 13 Jahren \nMit Profis aus Musical und Theater\nDie Jugendlichen werden in vier Disziplinen\, Singen\, Tanzen\, Schauspielen und Sprechen unterrichtet. \n					\n				\n			\n				Jetzt informieren & anmelden!\n			\n				\n				\n				\n				\n				  \nVeranstaltungsort:Sarré MusikakademieHofmannstr. 781379 Münchenjeweils von 10 – 16 Uhr \n \n			\n				zurück zur Übersicht\n			\n			\n				\n				\n				\n				\n			\n				\n				\n			\n				\n				\n				\n				\n				\n				\n				\n				\n				\n				\n				\n				\n				\n				\n				\n				\n				\n				\n					\n					\n						Musikprojekte für die ganze Familie: Sing\, Play & Dance!\n						\n					\n				\n			\n				\n				\n				\n				\n				Sarré- Musikprojekte sprechen Kinder\, Jugendliche und Erwachsene an. \n			\n			\n				\n				\n				\n				\n			\n				\n				\n				\n				\n				\n				\n				\n				\n				\n				\n				\n			\n				\n				\n				\n				\n				PETER PANDas Familienmusical nach dem Schauspiel von J.M. Barrie\, Musik von George Stiles \n			\n				mehr Infos\n			\n			\n				\n				\n				\n				\n				\n				\n				\n				\n				\n				\n			\n				\n				\n				\n				\n				Die ZauberflöteDie Oper für Familien von W.A. Mozart in einer zauberhaften Inszenierung \n			\n				mehr Infos\n			\n			\n				\n				\n				\n				\n				\n				\n				\n				\n				\n				\n			\n				\n				\n				\n				\n				BEST OF MUSICALS!Konzertreihe „Best of Musicals“ der Sarré Musikprojekte \n			\n				mehr Infos
URL:https://www.sarre-musikprojekte.de/termin/03-07-08-2026-sommerferien-musicalworkshop-tanz-der-vampire/
LOCATION:Sarré Musikakademie\, Hofmannstr. 5\, München\, 81379
CATEGORIES:Workshop
END:VEVENT
END:VCALENDAR