BEGIN:VCALENDAR
VERSION:2.0
PRODID:-//Sarré Musikprojekte - ECPv6.15.15//NONSGML v1.0//EN
CALSCALE:GREGORIAN
METHOD:PUBLISH
X-ORIGINAL-URL:https://www.sarre-musikprojekte.de
X-WR-CALDESC:Veranstaltungen für Sarré Musikprojekte
REFRESH-INTERVAL;VALUE=DURATION:PT1H
X-Robots-Tag:noindex
X-PUBLISHED-TTL:PT1H
BEGIN:VTIMEZONE
TZID:Europe/Berlin
BEGIN:DAYLIGHT
TZOFFSETFROM:+0100
TZOFFSETTO:+0200
TZNAME:CEST
DTSTART:20210328T010000
END:DAYLIGHT
BEGIN:STANDARD
TZOFFSETFROM:+0200
TZOFFSETTO:+0100
TZNAME:CET
DTSTART:20211031T010000
END:STANDARD
BEGIN:DAYLIGHT
TZOFFSETFROM:+0100
TZOFFSETTO:+0200
TZNAME:CEST
DTSTART:20220327T010000
END:DAYLIGHT
BEGIN:STANDARD
TZOFFSETFROM:+0200
TZOFFSETTO:+0100
TZNAME:CET
DTSTART:20221030T010000
END:STANDARD
BEGIN:DAYLIGHT
TZOFFSETFROM:+0100
TZOFFSETTO:+0200
TZNAME:CEST
DTSTART:20230326T010000
END:DAYLIGHT
BEGIN:STANDARD
TZOFFSETFROM:+0200
TZOFFSETTO:+0100
TZNAME:CET
DTSTART:20231029T010000
END:STANDARD
END:VTIMEZONE
BEGIN:VEVENT
DTSTART;TZID=Europe/Berlin:20221120T093000
DTEND;TZID=Europe/Berlin:20221120T170000
DTSTAMP:20260426T045044
CREATED:20221108T131603Z
LAST-MODIFIED:20221108T131738Z
UID:2661-1668936600-1668963600@www.sarre-musikprojekte.de
SUMMARY:Schnuppertag Musical - Für Erwachsene!
DESCRIPTION:Performen\, Singen\, Bewegen und Spaß haben\n			\n				\n				\n				\n				\n				\nDie Bühne gehört Euch! Wir freuen uns! \nIn einem ganz ungezwungen Umfeld sich ausprobieren im Schausspielern\, Tanzen und Singen. \nGo with the Flow! \nSei ein Darsteller!ERWECKE CHARAKTERE ZUM LEBEN! \nWas erwartet dich:– Hemmschwellen abbauen in einemgeschützten Rahmen– Stimmcoaching– Präsenz der Stimme stärken– Körpersprache entdeckenund zusammen Spaß haben \n			\n				Jetzt kontaktieren & buchen
URL:https://www.sarre-musikprojekte.de/termin/schnuppertag-musical-fuer-erwachsene/
LOCATION:Werk 1\, Atelierstraße 29\, München\, 81671\, Deutschland
CATEGORIES:Workshop
END:VEVENT
END:VCALENDAR