BEGIN:VCALENDAR
VERSION:2.0
PRODID:-//Sarré Musikprojekte - ECPv6.15.15//NONSGML v1.0//EN
CALSCALE:GREGORIAN
METHOD:PUBLISH
X-WR-CALNAME:Sarré Musikprojekte
X-ORIGINAL-URL:https://www.sarre-musikprojekte.de
X-WR-CALDESC:Veranstaltungen für Sarré Musikprojekte
REFRESH-INTERVAL;VALUE=DURATION:PT1H
X-Robots-Tag:noindex
X-PUBLISHED-TTL:PT1H
BEGIN:VTIMEZONE
TZID:Europe/Berlin
BEGIN:DAYLIGHT
TZOFFSETFROM:+0100
TZOFFSETTO:+0200
TZNAME:CEST
DTSTART:20220327T010000
END:DAYLIGHT
BEGIN:STANDARD
TZOFFSETFROM:+0200
TZOFFSETTO:+0100
TZNAME:CET
DTSTART:20221030T010000
END:STANDARD
BEGIN:DAYLIGHT
TZOFFSETFROM:+0100
TZOFFSETTO:+0200
TZNAME:CEST
DTSTART:20230326T010000
END:DAYLIGHT
BEGIN:STANDARD
TZOFFSETFROM:+0200
TZOFFSETTO:+0100
TZNAME:CET
DTSTART:20231029T010000
END:STANDARD
BEGIN:DAYLIGHT
TZOFFSETFROM:+0100
TZOFFSETTO:+0200
TZNAME:CEST
DTSTART:20240331T010000
END:DAYLIGHT
BEGIN:STANDARD
TZOFFSETFROM:+0200
TZOFFSETTO:+0100
TZNAME:CET
DTSTART:20241027T010000
END:STANDARD
END:VTIMEZONE
BEGIN:VEVENT
DTSTART;VALUE=DATE:20230120
DTEND;VALUE=DATE:20230123
DTSTAMP:20260426T015032
CREATED:20211025T084348Z
LAST-MODIFIED:20221108T130321Z
UID:2478-1674172800-1674431999@www.sarre-musikprojekte.de
SUMMARY:Familienmusical PETER PAN
DESCRIPTION:Familienmusical „Peter Pan“20. – 22. Januar 2023\n			\n				\n				\n				\n				\n				\nGespannt sein darf man auf mitreißende Songs\, schillernde Kostüme und frische\, fetzige Choreografien sowie ein Bühnen-Video-Konzept\, das einen Raum voller Magie und Zauber schafft. Die jungen Darsteller der Sarré Musikakademie werden begleitet von einem Live-Orchester aus Musikern der Bayerischen Staatstheater unter der Leitung von Liviu Petcu\, der schon die Premiere der Zauberflöte dirigiert hatte. \n			\n				Jetzt informieren & Tickets sichern!
URL:https://www.sarre-musikprojekte.de/termin/familienmusical-peter-pan-2/
LOCATION:Alte Kongresshalle\, Am Bavariapark 14\, München\, 80339
CATEGORIES:Öffentliche Aufführung
END:VEVENT
END:VCALENDAR