BEGIN:VCALENDAR
VERSION:2.0
PRODID:-//Sarré Musikprojekte - ECPv6.15.15//NONSGML v1.0//EN
CALSCALE:GREGORIAN
METHOD:PUBLISH
X-WR-CALNAME:Sarré Musikprojekte
X-ORIGINAL-URL:https://www.sarre-musikprojekte.de
X-WR-CALDESC:Veranstaltungen für Sarré Musikprojekte
REFRESH-INTERVAL;VALUE=DURATION:PT1H
X-Robots-Tag:noindex
X-PUBLISHED-TTL:PT1H
BEGIN:VTIMEZONE
TZID:Europe/Berlin
BEGIN:DAYLIGHT
TZOFFSETFROM:+0100
TZOFFSETTO:+0200
TZNAME:CEST
DTSTART:20220327T010000
END:DAYLIGHT
BEGIN:STANDARD
TZOFFSETFROM:+0200
TZOFFSETTO:+0100
TZNAME:CET
DTSTART:20221030T010000
END:STANDARD
BEGIN:DAYLIGHT
TZOFFSETFROM:+0100
TZOFFSETTO:+0200
TZNAME:CEST
DTSTART:20230326T010000
END:DAYLIGHT
BEGIN:STANDARD
TZOFFSETFROM:+0200
TZOFFSETTO:+0100
TZNAME:CET
DTSTART:20231029T010000
END:STANDARD
BEGIN:DAYLIGHT
TZOFFSETFROM:+0100
TZOFFSETTO:+0200
TZNAME:CEST
DTSTART:20240331T010000
END:DAYLIGHT
BEGIN:STANDARD
TZOFFSETFROM:+0200
TZOFFSETTO:+0100
TZNAME:CET
DTSTART:20241027T010000
END:STANDARD
END:VTIMEZONE
BEGIN:VEVENT
DTSTART;TZID=Europe/Berlin:20230709T143000
DTEND;TZID=Europe/Berlin:20230709T200000
DTSTAMP:20260425T172757
CREATED:20230707T101142Z
LAST-MODIFIED:20230707T102134Z
UID:3310-1688913000-1688932800@www.sarre-musikprojekte.de
SUMMARY:FAT CAT Eröffnungsfeier
DESCRIPTION:Veranstaltungsort:\n\nSarré Musikakademie\nFAT CAT (ehem. GASTEIG)\nRosenheimer Str.5\n81667 München \n \n			\n			\n				\n				\n				\n				\n			\n				\n				\n			\n				\n				\n				\n				\n				\n				\n				\n				\n				\n				\n				\n				\n				\n				\n				\n				\n				\n				\n					\n					\n						Musikprojekte für die ganze Familie: Sing\, Play & Dance!\n						\n					\n				\n			\n				\n				\n				\n				\n				Sarré- Musikprojekte sprechen Kinder\, Jugendliche und Erwachsene an. \n			\n			\n				\n				\n				\n				\n			\n				\n				\n				\n				\n				\n				\n				\n				\n				\n				\n				\n			\n				\n				\n				\n				\n				PETER PANDas Familienmusical nach dem Schauspiel von J.M. Barrie\, Musik von George Stiles \n			\n				mehr Infos\n			\n			\n				\n				\n				\n				\n				\n				\n				\n				\n				\n				\n			\n				\n				\n				\n				\n				Die ZauberflöteDie Oper für Familien von W.A. Mozart in einer zauberhaften Inszenierung \n			\n				mehr Infos\n			\n			\n				\n				\n				\n				\n				\n				\n				\n				\n				\n				\n			\n				\n				\n				\n				\n				BEST OF MUSICALS!Konzertreihe „Best of Musicals“ der Sarré Musikprojekte \n			\n				mehr Infos
URL:https://www.sarre-musikprojekte.de/termin/fat-cat-eroeffnungsfeier/
LOCATION:FAT CAT München (ehem. Gasteig)\, Rosenheimer Str. 5\, München\, Bayern\, 81667\, Deutschland
END:VEVENT
BEGIN:VEVENT
DTSTART;VALUE=DATE:20230731
DTEND;VALUE=DATE:20230805
DTSTAMP:20260425T172757
CREATED:20230117T121105Z
LAST-MODIFIED:20230401T112456Z
UID:2975-1690761600-1691193599@www.sarre-musikprojekte.de
SUMMARY:Sommerferien-Musicalworkshop
DESCRIPTION:zurück zur Übersicht\n			\n				\n				\n				\n				\n				\n					\n					\n						\n						31. Juli – 04. August 2023: Sommerferien-Musical-Workshop\nMit Profis aus Musical und Theater\n  \nMusical Workshop „Wo ist Bruno? Ein Disney-Krimi“Mit Songs u.a. aus Encanto\, Frozen\, Vaiana \nUnsere Workshops sind eine gute Gelegenheit\, sich auszuprobieren und unsere Arbeit kennenzulernen. Am Ende des Workshops gibt es eine kleine Aufführung im großen Saal. \nDer Workshop steht allen Kindern und Jugendlichen im Alter von 8 bis ca. 16 Jahren offen. Die meisten Teilnehmer unserer Workshops sind Neueinsteiger und haben wenig bzw. keine Erfahrung im Theaterbereich. Es gibt kein Auswahlverfahren. Es sollen der Spaß und die Freude am gemeinsamen Erarbeiten eines Musicals im Vordergrund stehen. \n  \n					\n				\n			\n				Weitere Infos!\n			\n				\n				\n				\n				\n				jeweils von 9:30 – 16:00 Uhr \nVeranstaltungsort:Sarré MusikakademieGASTEIGRosenheimer Str.581667 München \nAnmeldung unter info@sarre-musikprojekte.de \n  \n			\n				zurück zur Übersicht\n			\n			\n				\n				\n				\n				\n			\n				\n				\n			\n				\n				\n				\n				\n				\n				\n				\n				\n				\n				\n				\n				\n				\n				\n				\n				\n				\n				\n					\n					\n						Musikprojekte für die ganze Familie: Sing\, Play & Dance!\n						\n					\n				\n			\n				\n				\n				\n				\n				Sarré- Musikprojekte sprechen Kinder\, Jugendliche und Erwachsene an. \n			\n			\n				\n				\n				\n				\n			\n				\n				\n				\n				\n				\n				\n				\n				\n				\n				\n				\n			\n				\n				\n				\n				\n				PETER PANDas Familienmusical nach dem Schauspiel von J.M. Barrie\, Musik von George Stiles \n			\n				mehr Infos\n			\n			\n				\n				\n				\n				\n				\n				\n				\n				\n				\n				\n			\n				\n				\n				\n				\n				Die ZauberflöteDie Oper für Familien von W.A. Mozart in einer zauberhaften Inszenierung \n			\n				mehr Infos\n			\n			\n				\n				\n				\n				\n				\n				\n				\n				\n				\n				\n			\n				\n				\n				\n				\n				BEST OF MUSICALS!Konzertreihe „Best of Musicals“ der Sarré Musikprojekte \n			\n				mehr Infos
URL:https://www.sarre-musikprojekte.de/termin/sommer-ferienworkshop-31-juli-04-august-2023/
LOCATION:FAT CAT München (ehem. Gasteig)\, Rosenheimer Str. 5\, München\, Bayern\, 81667\, Deutschland
CATEGORIES:Workshop
END:VEVENT
END:VCALENDAR