BEGIN:VCALENDAR
VERSION:2.0
PRODID:-//Sarré Musikprojekte - ECPv6.15.15//NONSGML v1.0//EN
CALSCALE:GREGORIAN
METHOD:PUBLISH
X-ORIGINAL-URL:https://www.sarre-musikprojekte.de
X-WR-CALDESC:Veranstaltungen für Sarré Musikprojekte
REFRESH-INTERVAL;VALUE=DURATION:PT1H
X-Robots-Tag:noindex
X-PUBLISHED-TTL:PT1H
BEGIN:VTIMEZONE
TZID:Europe/Berlin
BEGIN:DAYLIGHT
TZOFFSETFROM:+0100
TZOFFSETTO:+0200
TZNAME:CEST
DTSTART:20220327T010000
END:DAYLIGHT
BEGIN:STANDARD
TZOFFSETFROM:+0200
TZOFFSETTO:+0100
TZNAME:CET
DTSTART:20221030T010000
END:STANDARD
BEGIN:DAYLIGHT
TZOFFSETFROM:+0100
TZOFFSETTO:+0200
TZNAME:CEST
DTSTART:20230326T010000
END:DAYLIGHT
BEGIN:STANDARD
TZOFFSETFROM:+0200
TZOFFSETTO:+0100
TZNAME:CET
DTSTART:20231029T010000
END:STANDARD
BEGIN:DAYLIGHT
TZOFFSETFROM:+0100
TZOFFSETTO:+0200
TZNAME:CEST
DTSTART:20240331T010000
END:DAYLIGHT
BEGIN:STANDARD
TZOFFSETFROM:+0200
TZOFFSETTO:+0100
TZNAME:CET
DTSTART:20241027T010000
END:STANDARD
END:VTIMEZONE
BEGIN:VEVENT
DTSTART;VALUE=DATE:20231013
DTEND;VALUE=DATE:20231015
DTSTAMP:20260425T123858
CREATED:20230331T161403Z
LAST-MODIFIED:20230908T093608Z
UID:3133-1697155200-1697327999@www.sarre-musikprojekte.de
SUMMARY:STARKE KIDS! Generation JETZT!
DESCRIPTION:zurück zur Übersicht\n			\n				Mehr Infos & Tickets sichern!\n			\n				\n				\n				\n				\n				\n					\n					\n						\n						13. und 14. Oktober 2023: STARKE KIDS! Generation JETZT! \nVorstellungen:Fr 13.10.2023\, 17:30 UhrSa 14.10.2023\, 11&15 Uhr\n; \n					\n				\n			\n				Mehr Infos & Tickets sichern!\n			\n				\n				\n				\n				\n				Veranstaltungsort:Carl-Orff-Saal\, FAT CATRosenheimer Str.581667 München \nAnmeldung unter info@sarre-musikprojekte.de \n  \n			\n				zurück zur Übersicht\n			\n			\n				\n				\n				\n				\n			\n				\n				\n			\n				\n				\n				\n				\n				\n				\n				\n				\n				\n				\n				\n				\n				\n				\n				\n				\n				\n				\n					\n					\n						Musikprojekte für die ganze Familie: Sing\, Play & Dance!\n						\n					\n				\n			\n				\n				\n				\n				\n				Sarré- Musikprojekte sprechen Kinder\, Jugendliche und Erwachsene an. \n			\n			\n				\n				\n				\n				\n			\n				\n				\n				\n				\n				\n				\n				\n				\n				\n				\n				\n			\n				\n				\n				\n				\n				PETER PANDas Familienmusical nach dem Schauspiel von J.M. Barrie\, Musik von George Stiles \n			\n				mehr Infos\n			\n			\n				\n				\n				\n				\n				\n				\n				\n				\n				\n				\n			\n				\n				\n				\n				\n				Die ZauberflöteDie Oper für Familien von W.A. Mozart in einer zauberhaften Inszenierung \n			\n				mehr Infos\n			\n			\n				\n				\n				\n				\n				\n				\n				\n				\n				\n				\n			\n				\n				\n				\n				\n				BEST OF MUSICALS!Konzertreihe „Best of Musicals“ der Sarré Musikprojekte \n			\n				mehr Infos
URL:https://www.sarre-musikprojekte.de/termin/starke-kids-generation-jetzt/
LOCATION:FAT CAT München (ehem. Gasteig)\, Rosenheimer Str. 5\, München\, Bayern\, 81667\, Deutschland
END:VEVENT
END:VCALENDAR