BEGIN:VCALENDAR
VERSION:2.0
PRODID:-//Sarré Musikprojekte - ECPv6.15.15//NONSGML v1.0//EN
CALSCALE:GREGORIAN
METHOD:PUBLISH
X-ORIGINAL-URL:https://www.sarre-musikprojekte.de
X-WR-CALDESC:Veranstaltungen für Sarré Musikprojekte
REFRESH-INTERVAL;VALUE=DURATION:PT1H
X-Robots-Tag:noindex
X-PUBLISHED-TTL:PT1H
BEGIN:VTIMEZONE
TZID:Europe/Berlin
BEGIN:DAYLIGHT
TZOFFSETFROM:+0100
TZOFFSETTO:+0200
TZNAME:CEST
DTSTART:20240331T010000
END:DAYLIGHT
BEGIN:STANDARD
TZOFFSETFROM:+0200
TZOFFSETTO:+0100
TZNAME:CET
DTSTART:20241027T010000
END:STANDARD
BEGIN:DAYLIGHT
TZOFFSETFROM:+0100
TZOFFSETTO:+0200
TZNAME:CEST
DTSTART:20250330T010000
END:DAYLIGHT
BEGIN:STANDARD
TZOFFSETFROM:+0200
TZOFFSETTO:+0100
TZNAME:CET
DTSTART:20251026T010000
END:STANDARD
BEGIN:DAYLIGHT
TZOFFSETFROM:+0100
TZOFFSETTO:+0200
TZNAME:CEST
DTSTART:20260329T010000
END:DAYLIGHT
BEGIN:STANDARD
TZOFFSETFROM:+0200
TZOFFSETTO:+0100
TZNAME:CET
DTSTART:20261025T010000
END:STANDARD
END:VTIMEZONE
BEGIN:VEVENT
DTSTART;TZID=Europe/Berlin:20250304T100000
DTEND;TZID=Europe/Berlin:20250307T160000
DTSTAMP:20260424T095119
CREATED:20240514T081252Z
LAST-MODIFIED:20250306T133313Z
UID:3709-1741082400-1741363200@www.sarre-musikprojekte.de
SUMMARY:Faschingsferien Musical-Workshop "PETER PAN"
DESCRIPTION:TERMINE\n			\n				\n				\n				\n				\n				Neues aus der Sarré Musikprojekte gGmbH\n			\n			\n				\n				\n				\n				\n				\n			\n				\n				\n				\n				\n			\n				\n				\n			\n				\n				\n				\n				\n				\n				\n				\n				\n				\n				\n				\n				\n				\n				zurück zur Übersicht\n			\n				\n				\n				\n				\n				\n					\n					\n						\n						04. – 07. März 2025: Faschingsferien-Musical-Workshop „PETER PAN“\nMit Profis aus Musical und Theater\nDie Kinder werden in vier Disziplinen\, Singen\, Tanzen\, Schauspielen und Sprechen unterrichtet. \n					\n				\n			\n				Mehr Infos & Anmeldung\n			\n				\n				\n				\n				\n				  \nVeranstaltungsort:\n\nSarré Musikakademie im FAT CAT (ehem. Gasteig)\nKellerstr. 6\n81379 München\njeweils von 10 – 16 Uhr \n\n			\n				zurück zur Übersicht\n			\n			\n				\n				\n				\n				\n			\n				\n				\n			\n				\n				\n				\n				\n				\n				\n				\n				\n				\n				\n				\n				\n				\n				\n				\n				\n				\n				\n					\n					\n						Musikprojekte für die ganze Familie: Sing\, Play & Dance!\n						\n					\n				\n			\n				\n				\n				\n				\n				Sarré- Musikprojekte sprechen Kinder\, Jugendliche und Erwachsene an. \n			\n			\n				\n				\n				\n				\n			\n				\n				\n				\n				\n				\n				\n				\n				\n				\n				\n				\n			\n				\n				\n				\n				\n				PETER PANDas Familienmusical nach dem Schauspiel von J.M. Barrie\, Musik von George Stiles \n			\n				mehr Infos\n			\n			\n				\n				\n				\n				\n				\n				\n				\n				\n				\n				\n			\n				\n				\n				\n				\n				Die ZauberflöteDie Oper für Familien von W.A. Mozart in einer zauberhaften Inszenierung \n			\n				mehr Infos\n			\n			\n				\n				\n				\n				\n				\n				\n				\n				\n				\n				\n			\n				\n				\n				\n				\n				BEST OF MUSICALS!Konzertreihe „Best of Musicals“ der Sarré Musikprojekte \n			\n				mehr Infos
URL:https://www.sarre-musikprojekte.de/termin/faschingsferien-musical-workshop-encanto/
LOCATION:FAT CAT München (ehem. Gasteig)\, Rosenheimer Str. 5\, München\, Bayern\, 81667\, Deutschland
CATEGORIES:Workshop
END:VEVENT
BEGIN:VEVENT
DTSTART;VALUE=DATE:20250329
DTEND;VALUE=DATE:20250331
DTSTAMP:20260424T095120
CREATED:20250306T070658Z
LAST-MODIFIED:20250306T070805Z
UID:4118-1743206400-1743379199@www.sarre-musikprojekte.de
SUMMARY:29.+30.03.25: Best of Musicals
DESCRIPTION:„BEST OF MUSICALS“29. + 30. März 2025\n			\n				\n				\n				\n				\n				\nIm Fat Cat bebt wieder die Bühne! Nach dem fantastischen Start der Musical-Reihe Best of Musicals letzten Herbst präsentieren die jungen Talente der Sarré Musikakademie nun weitere Lieblingssongs der schönsten Musical-Produktionen. \n			\n				Jetzt informieren & Tickets sichern!
URL:https://www.sarre-musikprojekte.de/termin/best-of-musicals-maerz25/
LOCATION:FAT CAT München (ehem. Gasteig)\, Rosenheimer Str. 5\, München\, Bayern\, 81667\, Deutschland
END:VEVENT
END:VCALENDAR