BEGIN:VCALENDAR
VERSION:2.0
PRODID:-//Sarré Musikprojekte - ECPv6.15.15//NONSGML v1.0//EN
CALSCALE:GREGORIAN
METHOD:PUBLISH
X-WR-CALNAME:Sarré Musikprojekte
X-ORIGINAL-URL:https://www.sarre-musikprojekte.de
X-WR-CALDESC:Veranstaltungen für Sarré Musikprojekte
REFRESH-INTERVAL;VALUE=DURATION:PT1H
X-Robots-Tag:noindex
X-PUBLISHED-TTL:PT1H
BEGIN:VTIMEZONE
TZID:Europe/Berlin
BEGIN:DAYLIGHT
TZOFFSETFROM:+0100
TZOFFSETTO:+0200
TZNAME:CEST
DTSTART:20240331T010000
END:DAYLIGHT
BEGIN:STANDARD
TZOFFSETFROM:+0200
TZOFFSETTO:+0100
TZNAME:CET
DTSTART:20241027T010000
END:STANDARD
BEGIN:DAYLIGHT
TZOFFSETFROM:+0100
TZOFFSETTO:+0200
TZNAME:CEST
DTSTART:20250330T010000
END:DAYLIGHT
BEGIN:STANDARD
TZOFFSETFROM:+0200
TZOFFSETTO:+0100
TZNAME:CET
DTSTART:20251026T010000
END:STANDARD
BEGIN:DAYLIGHT
TZOFFSETFROM:+0100
TZOFFSETTO:+0200
TZNAME:CEST
DTSTART:20260329T010000
END:DAYLIGHT
BEGIN:STANDARD
TZOFFSETFROM:+0200
TZOFFSETTO:+0100
TZNAME:CET
DTSTART:20261025T010000
END:STANDARD
END:VTIMEZONE
BEGIN:VEVENT
DTSTART;TZID=Europe/Berlin:20250804T110000
DTEND;TZID=Europe/Berlin:20250808T170000
DTSTAMP:20260424T022235
CREATED:20250306T133218Z
LAST-MODIFIED:20250306T152038Z
UID:4132-1754305200-1754672400@www.sarre-musikprojekte.de
SUMMARY:04.-08-08-25: Sommerferien Musicalworkshop "THE GREATEST SHOWMAN"
DESCRIPTION:TERMINE \n			\n				\n				\n				\n				\n				Neues aus der Sarre Musik-projekte GmbH \n			\n			\n				\n				\n				\n				\n				\n			\n				\n				\n				\n				\n			\n				\n				\n			\n				\n				\n				\n				\n				\n				\n				\n				\n				\n				\n				\n				\n				\n				zurück zur Übersicht\n			\n				\n				\n				\n				\n				\n					\n					\n						\n						04. – 07. März 2025: Faschingsferien-Musical-Workshop „THE GREATEST SHOWMAN“\nAlter: ab 13 Jahren \nMit Profis aus Musical und Theater\nDie Jugendlichen werden in vier Disziplinen\, Singen\, Tanzen\, Schauspielen und Sprechen unterrichtet. \n					\n				\n			\n				Jetzt informieren & anmelden!\n			\n				\n				\n				\n				\n				  \nVeranstaltungsort:Sarré Musikakademie im FAT CAT (ehem. Gasteig)Kellerstr. 681379 Münchenjeweils von 10 – 16 Uhr \n \n			\n				zurück zur Übersicht\n			\n			\n				\n				\n				\n				\n			\n				\n				\n			\n				\n				\n				\n				\n				\n				\n				\n				\n				\n				\n				\n				\n				\n				\n				\n				\n				\n				\n					\n					\n						Musikprojekte für die ganze Familie: Sing\, Play & Dance!\n						\n					\n				\n			\n				\n				\n				\n				\n				Sarré- Musikprojekte sprechen Kinder\, Jugendliche und Erwachsene an. \n			\n			\n				\n				\n				\n				\n			\n				\n				\n				\n				\n				\n				\n				\n				\n				\n				\n				\n			\n				\n				\n				\n				\n				PETER PANDas Familienmusical nach dem Schauspiel von J.M. Barrie\, Musik von George Stiles \n			\n				mehr Infos\n			\n			\n				\n				\n				\n				\n				\n				\n				\n				\n				\n				\n			\n				\n				\n				\n				\n				Die ZauberflöteDie Oper für Familien von W.A. Mozart in einer zauberhaften Inszenierung \n			\n				mehr Infos\n			\n			\n				\n				\n				\n				\n				\n				\n				\n				\n				\n				\n			\n				\n				\n				\n				\n				BEST OF MUSICALS!Konzertreihe „Best of Musicals“ der Sarré Musikprojekte \n			\n				mehr Infos
URL:https://www.sarre-musikprojekte.de/termin/04-08-08-25-sommerferien-musicalworkshop-the-greatest-showman/
LOCATION:FAT CAT München (ehem. Gasteig)\, Rosenheimer Str. 5\, München\, Bayern\, 81667\, Deutschland
CATEGORIES:Workshop
END:VEVENT
BEGIN:VEVENT
DTSTART;TZID=Europe/Berlin:20250811T100000
DTEND;TZID=Europe/Berlin:20250815T160000
DTSTAMP:20260424T022235
CREATED:20250306T150813Z
LAST-MODIFIED:20250306T150827Z
UID:4148-1754906400-1755273600@www.sarre-musikprojekte.de
SUMMARY:11.-15.08-25: Sommerferien Musicalworkshop "MARY POPPINS"
DESCRIPTION:TERMINE \n			\n				\n				\n				\n				\n				Neues aus der Sarre Musik-projekte GmbH \n			\n			\n				\n				\n				\n				\n				\n			\n				\n				\n				\n				\n			\n				\n				\n			\n				\n				\n				\n				\n				\n				\n				\n				\n				\n				\n				\n				\n				\n				zurück zur Übersicht\n			\n				\n				\n				\n				\n				\n					\n					\n						\n						11. – 15. März 2025: Sommerferien-Musicalworkshop „Mary Poppins“\nAlter: von 9 – 12 Jahre \nMit Profis aus Musical und Theater\nDie Jugendlichen werden in vier Disziplinen\, Singen\, Tanzen\, Schauspielen und Sprechen unterrichtet. \n					\n				\n			\n				Jetzt informieren und anmelden!\n			\n				\n				\n				\n				\n				  \nVeranstaltungsort:Sarré Musikakademie im FAT CAT (ehem. Gasteig)Kellerstr. 681379 Münchenjeweils von 10 – 16 Uhr \n \n			\n				zurück zur Übersicht\n			\n			\n				\n				\n				\n				\n			\n				\n				\n			\n				\n				\n				\n				\n				\n				\n				\n				\n				\n				\n				\n				\n				\n				\n				\n				\n				\n				\n					\n					\n						Musikprojekte für die ganze Familie: Sing\, Play & Dance!\n						\n					\n				\n			\n				\n				\n				\n				\n				Sarré- Musikprojekte sprechen Kinder\, Jugendliche und Erwachsene an. \n			\n			\n				\n				\n				\n				\n			\n				\n				\n				\n				\n				\n				\n				\n				\n				\n				\n				\n			\n				\n				\n				\n				\n				PETER PANDas Familienmusical nach dem Schauspiel von J.M. Barrie\, Musik von George Stiles \n			\n				mehr Infos\n			\n			\n				\n				\n				\n				\n				\n				\n				\n				\n				\n				\n			\n				\n				\n				\n				\n				Die ZauberflöteDie Oper für Familien von W.A. Mozart in einer zauberhaften Inszenierung \n			\n				mehr Infos\n			\n			\n				\n				\n				\n				\n				\n				\n				\n				\n				\n				\n			\n				\n				\n				\n				\n				BEST OF MUSICALS!Konzertreihe „Best of Musicals“ der Sarré Musikprojekte \n			\n				mehr Infos
URL:https://www.sarre-musikprojekte.de/termin/11-15-08-25-sommerferien-musicalworkshop-mary-poppins/
LOCATION:FAT CAT München (ehem. Gasteig)\, Rosenheimer Str. 5\, München\, Bayern\, 81667\, Deutschland
END:VEVENT
END:VCALENDAR