BEGIN:VCALENDAR
VERSION:2.0
PRODID:-//Sarré Musikprojekte - ECPv6.15.15//NONSGML v1.0//EN
CALSCALE:GREGORIAN
METHOD:PUBLISH
X-WR-CALNAME:Sarré Musikprojekte
X-ORIGINAL-URL:https://www.sarre-musikprojekte.de
X-WR-CALDESC:Veranstaltungen für Sarré Musikprojekte
REFRESH-INTERVAL;VALUE=DURATION:PT1H
X-Robots-Tag:noindex
X-PUBLISHED-TTL:PT1H
BEGIN:VTIMEZONE
TZID:Europe/Berlin
BEGIN:DAYLIGHT
TZOFFSETFROM:+0100
TZOFFSETTO:+0200
TZNAME:CEST
DTSTART:20250330T010000
END:DAYLIGHT
BEGIN:STANDARD
TZOFFSETFROM:+0200
TZOFFSETTO:+0100
TZNAME:CET
DTSTART:20251026T010000
END:STANDARD
BEGIN:DAYLIGHT
TZOFFSETFROM:+0100
TZOFFSETTO:+0200
TZNAME:CEST
DTSTART:20260329T010000
END:DAYLIGHT
BEGIN:STANDARD
TZOFFSETFROM:+0200
TZOFFSETTO:+0100
TZNAME:CET
DTSTART:20261025T010000
END:STANDARD
BEGIN:DAYLIGHT
TZOFFSETFROM:+0100
TZOFFSETTO:+0200
TZNAME:CEST
DTSTART:20270328T010000
END:DAYLIGHT
BEGIN:STANDARD
TZOFFSETFROM:+0200
TZOFFSETTO:+0100
TZNAME:CET
DTSTART:20271031T010000
END:STANDARD
END:VTIMEZONE
BEGIN:VEVENT
DTSTART;VALUE=DATE:20260116
DTEND;VALUE=DATE:20260119
DTSTAMP:20260423T182201
CREATED:20250307T070329Z
LAST-MODIFIED:20250307T070656Z
UID:4157-1768521600-1768780799@www.sarre-musikprojekte.de
SUMMARY:16.-18.01.26: DIE ZAUBERFLÖTE - Die Oper für Familien
DESCRIPTION:„DIE ZAUBERFLÖTE“16. – 18. Januar 2026\n			\n				\n				\n				\n				\n				\nMozarts Märchenoper spielt in der Neuinszenierung von Opernregisseurin Julia Riegel in der Welt der Gamer. Der junge Tamino ist leidenschaftlicher Videospieler und begibt sich in seinem neuen Fantasy-Spiel mit Euch auf eine Reise durch ein magisches Zauberland. \n			\n				Jetzt informieren & Tickets sichern!
URL:https://www.sarre-musikprojekte.de/termin/16-18-01-2026-die-zauberfloete-die-oper-fuer-familien/
LOCATION:Alte Kongresshalle\, Am Bavariapark 14\, München\, 80339
CATEGORIES:Öffentliche Aufführung
END:VEVENT
END:VCALENDAR